BEGIN:VCALENDAR
VERSION:2.0
PRODID:-//wildwechsel//wildwechsel.de//DE
METHOD:PUBLISH
CALSCALE:GREGORIAN
BEGIN:VEVENT
DTSTART:20260426T100000
DTEND:20260426T140000
LOCATION:Dorf Hembsen\, \, Brakel-Hembsen
DTSTAMP:20260420T211130
SUMMARY:Ww-Terminator: Dorf-Flohmarkt in Hembsen - Brakel-Hembsen
URL;VALUE=URI:https://www.wildwechsel.de/wildwechsel-terminator/event/dorf-flohmarkt-in-hembsen-dorf-hembsen-brakel-hembsen-267218/
CLASS:PUBLIC
DESCRIPTION:Dorf-Flohmarkt Hembsen 2026: Trödeln im Pfarrgarten

Am 26. April 2026 wird Hembsen erneut zum Treffpunkt für Trödel-Fans und Schnäppchenjäger. Beim mittlerweile fünften Dorf-Flohmarkt organisiert der Hembser Kulturverein eine vielseitige Verkaufsaktion, die von 10:00 bis 14:00 Uhr stattfindet.

Flohmarkt mit Dorfcharakter

Im Mittelpunkt des Geschehens steht wie in den Vorjahren der Pfarrgarten, der als zentrale Anlaufstelle dient. Dort erhalten Besucherinnen und Besucher alle wichtigen Informationen rund um den Flohmarkt. Gleichzeitig wird vor Ort auch für ein gastronomisches Angebot gesorgt, sodass sich der Besuch angenehm mit einer kleinen Pause verbinden lässt.

Vielfältiges Angebot und günstige Teilnahme

Das Angebot reicht von klassischen Haushaltsgegenständen bis hin zu kleinen Raritäten aus dem Alltag. Wer selbst einen Stand betreiben möchte, kann dies gegen eine geringe Gebühr von 2,00 Euro tun. Zusätzlich sind am Infostand Eintrittskarten für das „Kraut- und Rübenfestival“ 2026 erhältlich.

Veranstaltungsort ist Brakel-Hembsen. Ansprechpartner für Rückfragen ist der Hembser Kulturverein.
UID:20260420T211130-20260426T100000-20260426T140000
END:VEVENT
END:VCALENDAR