BEGIN:VCALENDAR
VERSION:2.0
PRODID:-//wildwechsel//wildwechsel.de//DE
METHOD:PUBLISH
CALSCALE:GREGORIAN
BEGIN:VEVENT
DTSTART:20260510T060000
DTEND:20260510T100000
LOCATION:Tierpark Sababurg\, \, Hofgeismar
DTSTAMP:20260419T224531
SUMMARY:Ww-Terminator: Der Wald erwacht! - Hofgeismar
URL;VALUE=URI:https://www.wildwechsel.de/wildwechsel-terminator/event/der-wald-erwacht-tierpark-sababurg-hofgeismar-267156/
CLASS:PUBLIC
DESCRIPTION:So 10.Mai 2026 um 06:00 im Tierpark Sababurg
UID:20260419T224531-20260510T060000-20260510T100000
END:VEVENT
END:VCALENDAR