BEGIN:VCALENDAR
VERSION:2.0
PRODID:-//wildwechsel//wildwechsel.de//DE
METHOD:PUBLISH
CALSCALE:GREGORIAN
BEGIN:VEVENT
DTSTART:20260503T060000
DTEND:20260503T100000
LOCATION:Tierpark Sababurg\, \, Hofgeismar
DTSTAMP:20260420T000350
SUMMARY:Ww-Terminator: Der Wald erwacht! - Hofgeismar
URL;VALUE=URI:https://www.wildwechsel.de/wildwechsel-terminator/event/der-wald-erwacht-tierpark-sababurg-hofgeismar-267155/
CLASS:PUBLIC
DESCRIPTION:Frühführung im Tierpark Sababurg mit Frühstück

Ein Morgen im Tierpark in besonderer Atmosphäre

Noch vor dem offiziellen Einlass eröffnet sich im Tierpark Sababurg eine ruhige und eindrucksvolle Szenerie. In den frühen Stunden zeigt sich der Park von einer ungewohnten Seite, während die Tiere aktiv in den Tag starten. Die besondere Lichtstimmung und die entspannte Umgebung machen diese Führung zu einem außergewöhnlichen Naturerlebnis.

Ablauf der Frühführung

Der Rundgang beginnt um 6:00 Uhr und ermöglicht einen exklusiven Einblick in das morgendliche Geschehen im Park. Im Anschluss steht ein abwechslungsreiches Frühstücksbuffet bereit. Für das kombinierte Angebot aus Führung und Frühstück sollte insgesamt ein Zeitraum bis etwa 9:00 Uhr eingeplant werden.

Termine, Preise und Teilnahme

Für die Veranstaltung stehen folgende Termine zur Verfügung:
26. April 2026 – Abschluss im Gasthaus
3. Mai 2026 – Abschluss in der Elch-Lodge
10. Mai 2026 – Abschluss in der Elch-Lodge

Der Gesamtpreis inklusive Eintritt, Führung und Buffet liegt bei 25 Euro für Erwachsene ab 16 Jahren und 22 Euro für Kinder zwischen 4 und 11 Jahren.

Die Teilnahme ist ausschließlich über eine Online-Anmeldung möglich. Stornierungen können bis spätestens drei Tage vor dem Termin vorgenommen werden. Danach sind weder Umbuchungen noch Rückerstattungen vorgesehen, wobei im Stornierungsfall eine Servicegebühr pro Ticket einbehalten wird.
UID:20260420T000350-20260503T060000-20260503T100000
END:VEVENT
END:VCALENDAR