BEGIN:VCALENDAR
VERSION:2.0
PRODID:-//wildwechsel//wildwechsel.de//DE
METHOD:PUBLISH
CALSCALE:GREGORIAN
BEGIN:VEVENT
DTSTART:20260426T060000
DTEND:20260426T100000
LOCATION:Tierpark Sababurg\, \, Hofgeismar
DTSTAMP:20260419T232956
SUMMARY:Ww-Terminator: Der Wald erwacht - Hofgeismar
URL;VALUE=URI:https://www.wildwechsel.de/wildwechsel-terminator/event/der-wald-erwacht-tierpark-sababurg-hofgeismar-267154/
CLASS:PUBLIC
DESCRIPTION:Frühaufsteher-Tour im Tierpark Sababurg mit Frühstück

Besondere Morgenstimmung im Tierpark

Der Tierpark Sababurg öffnet seine Tore für ein außergewöhnliches Erlebnis in den frühen Morgenstunden. Noch bevor der reguläre Besuch beginnt, bietet die Führung die Gelegenheit, den Park in einer besonderen Atmosphäre zu erleben und zu beobachten, wie die Tiere in den Tag starten. Das frühe Licht und die ruhige Stimmung sorgen für einen eindrucksvollen Auftakt.

Start und Ablauf

Beginn der Führung ist um 6:00 Uhr. Im Anschluss steht ein reichhaltiges Frühstücksbuffet bereit. Für das gesamte Angebot aus Eintritt, Führung und Frühstück sollte eine Besuchsdauer bis etwa 9:00 Uhr eingeplant werden.

Termine und Preise

Zur Auswahl stehen drei Termine:
So, 26. April 2026 – Führung endet im Gasthaus
So, 3. Mai 2026 – Führung endet in der Elch-Lodge
So, 10. Mai 2026 – Führung endet in der Elch-Lodge

Der Preis pro Person inklusive Eintritt, Führung und Buffet beträgt:
Erwachsene ab 16 Jahren: 25 Euro
Kinder von 4 bis 11 Jahren: 22 Euro

Anmeldung und Stornierung

Die Anmeldung ist ausschließlich online möglich.

Eine Stornierung kann nur bis drei Tage vor Veranstaltungsbeginn erfolgen. Nach Ablauf dieser Frist sind weder Erstattung noch Umbuchung möglich. Im Falle einer Stornierung wird die Servicegebühr pro Ticket einbehalten.
UID:20260419T232956-20260426T060000-20260426T100000
END:VEVENT
END:VCALENDAR