BEGIN:VCALENDAR
VERSION:2.0
PRODID:-//wildwechsel//wildwechsel.de//DE
METHOD:PUBLISH
CALSCALE:GREGORIAN
BEGIN:VEVENT
DTSTART:19700101T010000
DTEND:19700101T010000
LOCATION:Tierpark Sababurg\, \, Hofgeismar
DTSTAMP:20260423T183454
SUMMARY:Ww-Terminator: Bunter Herbstmarkt - Hofgeismar
URL;VALUE=URI:https://www.wildwechsel.de/%20wildwechsel-terminator/event/bunter-herbstmarkt-tierpark-sababurg-hofgeismar-267179/
CLASS:PUBLIC
DESCRIPTION:Herbstlicher Aktionstag im Tierpark Sababurg

Genuss und Natur im Fokus

Im Tierpark Sababurg dreht sich an diesem besonderen Tag alles um herbstliche Klassiker wie Apfel, Kürbis und Kartoffel. Die Veranstaltung verbindet saisonale Themen mit einem abwechslungsreichen Angebot für Groß und Klein und greift dabei die Vielfalt regionaler Produkte auf.

Mitmachaktionen und Kunsthandwerk

Neben kulinarischen Eindrücken stehen vor allem praktische Erlebnisse im Mittelpunkt. So bietet die Kartoffelernte spannende Einblicke in landwirtschaftliche Abläufe, während Kunsthandwerker ihre Arbeiten präsentieren und traditionelle Techniken vorstellen. Ergänzt wird das Angebot durch weitere Aktionen rund um die herbstlichen Themenwelten.

Weitere Programmpunkte werden noch bekannt gegeben.
UID:20260423T183454-19700101T010000-19700101T010000
END:VEVENT
END:VCALENDAR