BEGIN:VCALENDAR
VERSION:2.0
PRODID:-//wildwechsel//wildwechsel.de//DE
METHOD:PUBLISH
CALSCALE:GREGORIAN
BEGIN:VEVENT
DTSTART:20270126T200000
DTEND:20270127T000000
LOCATION:Paderhalle\, \, Paderborn
DTSTAMP:20260419T105909
SUMMARY:Ww-Terminator: Best of Musicals - Paderborn
URL;VALUE=URI:https://www.wildwechsel.de/wildwechsel-terminator/event/best-of-musicals-paderhalle-paderborn-265552/
CLASS:PUBLIC
DESCRIPTION:Di 26.Jan 2027 um 20:00 im Paderhalle
UID:20260419T105909-20270126T200000-20270127T000000
END:VEVENT
END:VCALENDAR