BEGIN:VCALENDAR
VERSION:2.0
PRODID:-//wildwechsel//wildwechsel.de//DE
METHOD:PUBLISH
CALSCALE:GREGORIAN
BEGIN:VEVENT
DTSTART:20260426T190000
DTEND:20260426T230000
LOCATION:KFZ Marburg\, \, Marburg
DTSTAMP:20260419T170147
SUMMARY:Ww-Terminator: BalFolk - Parasol - Marburg
URL;VALUE=URI:https://www.wildwechsel.de/wildwechsel-terminator/event/balfolk-parasol-kfz-marburg-marburg-266064/
CLASS:PUBLIC
DESCRIPTION:Wenn jeder Ton zum Schritt wird und jeder Tanz eine Geschichte erzählt. Ein Abend voller Wärme, Rhythmus und Nähe. 

Tanzworkshop 19:00 Uhr: Wir zeigen kurz die wichtigsten Tänze und Überlebenstricks für die Tanzfläche 

Einlass: 19:00 Uhr
UID:20260419T170147-20260426T190000-20260426T230000
END:VEVENT
END:VCALENDAR