BEGIN:VCALENDAR
VERSION:2.0
PRODID:-//wildwechsel//wildwechsel.de//DE
METHOD:PUBLISH
CALSCALE:GREGORIAN
BEGIN:VEVENT
DTSTART:20260611T200000
DTEND:20260612T000000
LOCATION:Kulturhaus Osterfeld\, \, Pforzheim
DTSTAMP:20260420T061532
SUMMARY:Ww-Terminator: Alles echt. - Quichotte - Pforzheim
URL;VALUE=URI:https://www.wildwechsel.de/wildwechsel-terminator/event/alles-echt-quichotte-kulturhaus-osterfeld-pforzheim-267072/
CLASS:PUBLIC
DESCRIPTION:Wenn Rap auf Comedy und Stand-up auf Poetry Slam treffen, kann die Rede eigentlich nur von Quichotte sein. Der Gewinner von zahlreichen Preisen, wie der St. Ingberter Pfanne oder dem Deutschen Kabarettpreis, ist bereits seit Jahren eine feste Größe auf deutschen Bühnen. Auch mit seinem aktuellen Programm Alles echt. stellt der Entertainer wieder unter Beweis, dass er versteht, wie man mit Worten umgeht. So bleibt bei seinem gekonnten Mix aus Poetry Slam, Freestyle Rap und Stand-up Comedy kein Auge trocken. Sichere Dir gleich heute Deine Quichotte Tickets und erlebe den Comedian 2026/2027 live.
UID:20260420T061532-20260611T200000-20260612T000000
END:VEVENT
END:VCALENDAR