BEGIN:VCALENDAR
VERSION:2.0
PRODID:-//wildwechsel//wildwechsel.de//DE
METHOD:PUBLISH
CALSCALE:GREGORIAN
BEGIN:VEVENT
DTSTART:20260613T150000
DTEND:20260613T190000
LOCATION:Dampferanleger\, \, Höxter
DTSTAMP:20260420T181238
SUMMARY:Ww-Terminator: After Business Partyboat Höxter 2026 - DJ Toto - Höxter
URL;VALUE=URI:https://www.wildwechsel.de/wildwechsel-terminator/event/after-business-partyboat-hoexter-2026-dj-toto-dampferanleger-hoexter-267209/
CLASS:PUBLIC
DESCRIPTION:Leinen los und den Alltagsstress einfach mal links liegen lassen. Wir möchten Sie recht herzlich zu unserem After Business Partyboat einladen.
Schwingen Sie zu den größten Hits ihrer Jugend das Tanzbein, während das Schiff der Weser Flotte Ihnen beste Blicke auf das schöne Weserbergland liefert. Unsere DJs sorgen für Stimmung bis kurz vor dem Siedepunkt, Außen- und Innendeck bieten reichlich Platz zum feiern.

Vorverkaufsstellen:
Karten können in Beverungen abgeholt werden oder beim Autohaus Vatterott in Holzminden.
UID:20260420T181238-20260613T150000-20260613T190000
END:VEVENT
END:VCALENDAR