BEGIN:VCALENDAR
VERSION:2.0
PRODID:-//wildwechsel//wildwechsel.de//DE
METHOD:PUBLISH
CALSCALE:GREGORIAN
BEGIN:VEVENT
DTSTART:20260425T183000
DTEND:20260425T223000
LOCATION:Kaiser-Friedrich-Gedächtniskirche\, \, Berlin
DTSTAMP:20260419T174121
SUMMARY:Ww-Terminator: ADVANCE - DEMOCRACY Songs of Freedom and Hope - BANCANTA Chor & SPECIAL GUEST Marco Heise, Orgel - Berlin
URL;VALUE=URI:https://www.wildwechsel.de/wildwechsel-terminator/event/advance-democracy-songs-of-freedom-and-hope-bancanta-chor-special-guest-marco-heise-orgel-kaiser-friedrich-gedaechtniskirche-berlin-267037/
CLASS:PUBLIC
DESCRIPTION:Künstlerische Leitung: Tobias Walenciak
UID:20260419T174121-20260425T183000-20260425T223000
END:VEVENT
END:VCALENDAR