BEGIN:VCALENDAR
VERSION:2.0
PRODID:-//wildwechsel//wildwechsel.de//DE
METHOD:PUBLISH
CALSCALE:GREGORIAN
BEGIN:VEVENT
DTSTART:20260503T100000
DTEND:20260503T140000
LOCATION:Schloss Landau\, \, Bad Arolsen-Landau
DTSTAMP:20260420T200442
SUMMARY:Ww-Terminator: 4. Landauer Bergstadtflohmarkt - Bad Arolsen-Landau
URL;VALUE=URI:https://www.wildwechsel.de/wildwechsel-terminator/event/4-landauer-bergstadtflohmarkt-schloss-landau-bad-arolsen-landau-267035/
CLASS:PUBLIC
DESCRIPTION:Im ganzen Ort bieten rund 60 Verkäufer vor der eigenen Haustür unzählige Sachen von A wie Antiquitäten bis Z wie Zubehör aller Art an. Da lassen sich nicht nur Trödel, Kleidung für Kinder- und Erwachsene, Fahrräder, Fahrzeuge, Dekoartikel, Haushaltswaren, Spielzeug, Sammelkarten und vieles mehr finden. Nicht nur in den Hauptstraßen, sondern auch in den Nebenstraßen und auf dem Schloßhof kann man sicherlich das ein oder andere Schnäppchen und/oder Schätze entdecken.

- Die Bergstadtbücherei ist geöffnet, zusätzlich mit großem Bücherflohmarkt.
- 13.00 Uhr kostenlose Stadtführung (Treffpunkt: Brunnen am Schloss Landau)
- Greifvögel zum Anfassen und auch die Tiere am Wildgehege zeigen sich

Für das leibliche Wohl wird mit herzhaften Speisen und einem großen Kuchen- und Tortenbuffet gesorgt.
UID:20260420T200442-20260503T100000-20260503T140000
END:VEVENT
END:VCALENDAR