BEGIN:VCALENDAR
VERSION:2.0
PRODID:-//wildwechsel//wildwechsel.de//DE
METHOD:PUBLISH
CALSCALE:GREGORIAN
BEGIN:VEVENT
DTSTART:20260906T100000
DTEND:20260906T140000
LOCATION:Tierpark Sababurg\, \, Hofgeismar
DTSTAMP:20260422T215809
SUMMARY:Ww-Terminator: 18. Mittelalterliche Spectaculum - Hofgeismar
URL;VALUE=URI:https://www.wildwechsel.de/wildwechsel-terminator/event/18-mittelalterliche-spectaculum-tierpark-sababurg-hofgeismar-267178/
CLASS:PUBLIC
DESCRIPTION:Mittelalterliches Spectaculum im Tierpark Sababurg

Zeitreise in die Welt des Mittelalters

Das beliebte Mittelalterliche Spectaculum kehrt zurück in den Tierpark Sababurg und lädt zu einer eindrucksvollen Reise in vergangene Zeiten ein. Historisch inspirierte Darbietungen, stimmungsvolle Musik und authentische Kulissen prägen das Event und schaffen eine lebendige Atmosphäre.

Buntes Markttreiben und spektakuläre Shows

Auf dem Veranstaltungsgelände erwartet die Besucher ein vielseitiges Programm mit fahrenden Händlern, traditionellem Handwerk und unterhaltsamen Gauklern. Ritterliche Darbietungen und actionreiche Vorführungen sorgen für abwechslungsreiche Höhepunkte, während musikalische Acts das Geschehen begleiten. Auch Tanz- und Feuershows gehören zum festen Bestandteil des Programms.

Ein Erlebnis für die ganze Familie

Das Spectaculum verbindet Unterhaltung, Kultur und Geschichte zu einem ganztägigen Erlebnis. Unterschiedliche Programmpunkte und Mitmachangebote machen die Veranstaltung für verschiedene Altersgruppen attraktiv. Weitere Details zum Ablauf und Programm werden noch bekannt gegeben.
UID:20260422T215809-20260906T100000-20260906T140000
END:VEVENT
END:VCALENDAR