BEGIN:VCALENDAR
VERSION:2.0
PRODID:-//wildwechsel//wildwechsel.de//DE
METHOD:PUBLISH
CALSCALE:GREGORIAN
BEGIN:VEVENT
DTSTART:19700101T010000
DTEND:19700101T010000
LOCATION:Tierpark Sababurg\, \, Hofgeismar
DTSTAMP:20260422T220009
SUMMARY:Ww-Terminator: 16. Sababurger Tierparklauf - Hofgeismar
URL;VALUE=URI:https://www.wildwechsel.de/wildwechsel-terminator/event/16-sababurger-tierparklauf-tierpark-sababurg-hofgeismar-267175/
CLASS:PUBLIC
DESCRIPTION:Sababurger Tierparklauf 2026: Sportevent für den Naturschutz

Lauf durch Tierpark und Reinhardswald

Der Sababurger Tierparklauf geht 2026 in seine 16. Runde und verbindet sportliche Aktivität mit einem besonderen Naturerlebnis. Die Strecke führt durch den Tierpark Sababurg sowie den angrenzenden Reinhardswald und bietet damit abwechslungsreiche Bedingungen in naturnaher Umgebung. Entlang der Route sorgen zahlreiche Zuschauer für zusätzliche Motivation.

Spendenlauf für die AmphibienWelt

Der Lauf steht in diesem Jahr im Zeichen eines konkreten Projekts: Die Erlöse fließen in die geplante AmphibienWelt im Tierpark. Ziel ist es, einen neuen Lernort rund um den Lebensraum Wasser zu schaffen. Geplant ist unter anderem ein Steg über flachere Teichbereiche, der direkte Einblicke und praktische Untersuchungen ermöglicht. Dadurch sollen neue Möglichkeiten für Umweltbildung und Naturerfahrung entstehen.

Teil einer regionalen Laufserie

Die Veranstaltung ist Bestandteil des Reinhardswald Lauf- und Walkingcups und richtet sich sowohl an ambitionierte Läuferinnen und Läufer als auch an Freizeitsportler. Mit 752 Teilnehmenden im Vorjahr zählt der Tierparklauf zu den etablierten Laufevents der Region.

Anmeldung und weitere Informationen

Der Termin ist für den 21. Juni 2026 angesetzt. Die Anmeldung wird voraussichtlich ab Mai 2026 über RaceResult freigeschaltet. Weitere Details, etwa zu Streckenverläufen und Teilnahmebedingungen, werden im Zuge der Anmeldung bekannt gegeben.
UID:20260422T220009-19700101T010000-19700101T010000
END:VEVENT
END:VCALENDAR